



BEGIN:VCALENDAR
VERSION:2.0
PRODID:-//Les ateliers Mus&#039;Art - ECPv6.15.20//NONSGML v1.0//EN
CALSCALE:GREGORIAN
METHOD:PUBLISH
X-WR-CALNAME:Les ateliers Mus&#039;Art
X-ORIGINAL-URL:https://lesateliersmusart.fr
X-WR-CALDESC:Évènements pour Les ateliers Mus&#039;Art
REFRESH-INTERVAL;VALUE=DURATION:PT1H
X-Robots-Tag:noindex
X-PUBLISHED-TTL:PT1H
BEGIN:VTIMEZONE
TZID:Europe/Paris
BEGIN:DAYLIGHT
TZOFFSETFROM:+0100
TZOFFSETTO:+0200
TZNAME:CEST
DTSTART:20220327T010000
END:DAYLIGHT
BEGIN:STANDARD
TZOFFSETFROM:+0200
TZOFFSETTO:+0100
TZNAME:CET
DTSTART:20221030T010000
END:STANDARD
BEGIN:DAYLIGHT
TZOFFSETFROM:+0100
TZOFFSETTO:+0200
TZNAME:CEST
DTSTART:20230326T010000
END:DAYLIGHT
BEGIN:STANDARD
TZOFFSETFROM:+0200
TZOFFSETTO:+0100
TZNAME:CET
DTSTART:20231029T010000
END:STANDARD
BEGIN:DAYLIGHT
TZOFFSETFROM:+0100
TZOFFSETTO:+0200
TZNAME:CEST
DTSTART:20240331T010000
END:DAYLIGHT
BEGIN:STANDARD
TZOFFSETFROM:+0200
TZOFFSETTO:+0100
TZNAME:CET
DTSTART:20241027T010000
END:STANDARD
END:VTIMEZONE
BEGIN:VEVENT
DTSTART;TZID=Europe/Paris:20230930T150000
DTEND;TZID=Europe/Paris:20230930T170000
DTSTAMP:20260423T033522
CREATED:20230129T162816Z
LAST-MODIFIED:20230828T143644Z
UID:2155-1696086000-1696093200@lesateliersmusart.fr
SUMMARY:Land Art
DESCRIPTION:Venez créer dans la nature des œuvres d’art éphémères avec des éléments de la nature
URL:https://lesateliersmusart.fr/atelier/land-art/
CATEGORIES:art et créativité,Land Art
END:VEVENT
END:VCALENDAR