



BEGIN:VCALENDAR
VERSION:2.0
PRODID:-//Les ateliers Mus&#039;Art - ECPv6.15.20//NONSGML v1.0//EN
CALSCALE:GREGORIAN
METHOD:PUBLISH
X-WR-CALNAME:Les ateliers Mus&#039;Art
X-ORIGINAL-URL:https://lesateliersmusart.fr
X-WR-CALDESC:Évènements pour Les ateliers Mus&#039;Art
REFRESH-INTERVAL;VALUE=DURATION:PT1H
X-Robots-Tag:noindex
X-PUBLISHED-TTL:PT1H
BEGIN:VTIMEZONE
TZID:Europe/Paris
BEGIN:DAYLIGHT
TZOFFSETFROM:+0100
TZOFFSETTO:+0200
TZNAME:CEST
DTSTART:20250330T010000
END:DAYLIGHT
BEGIN:STANDARD
TZOFFSETFROM:+0200
TZOFFSETTO:+0100
TZNAME:CET
DTSTART:20251026T010000
END:STANDARD
BEGIN:DAYLIGHT
TZOFFSETFROM:+0100
TZOFFSETTO:+0200
TZNAME:CEST
DTSTART:20260329T010000
END:DAYLIGHT
BEGIN:STANDARD
TZOFFSETFROM:+0200
TZOFFSETTO:+0100
TZNAME:CET
DTSTART:20261025T010000
END:STANDARD
BEGIN:DAYLIGHT
TZOFFSETFROM:+0100
TZOFFSETTO:+0200
TZNAME:CEST
DTSTART:20270328T010000
END:DAYLIGHT
BEGIN:STANDARD
TZOFFSETFROM:+0200
TZOFFSETTO:+0100
TZNAME:CET
DTSTART:20271031T010000
END:STANDARD
END:VTIMEZONE
BEGIN:VEVENT
DTSTART;TZID=Europe/Paris:20260131T180000
DTEND;TZID=Europe/Paris:20260131T190000
DTSTAMP:20260422T123427
CREATED:20250811T144312Z
LAST-MODIFIED:20250811T144352Z
UID:4245-1769882400-1769886000@lesateliersmusart.fr
SUMMARY:Interlude Musical
DESCRIPTION:
URL:https://lesateliersmusart.fr/atelier/interlude-musical/
LOCATION:L’Écrin\, Salvagnac\, rue de l'église\, Salvagnac\, 81630
CATEGORIES:Concert
END:VEVENT
END:VCALENDAR