



BEGIN:VCALENDAR
VERSION:2.0
PRODID:-//Les ateliers Mus&#039;Art - ECPv6.15.20//NONSGML v1.0//EN
CALSCALE:GREGORIAN
METHOD:PUBLISH
X-WR-CALNAME:Les ateliers Mus&#039;Art
X-ORIGINAL-URL:https://lesateliersmusart.fr
X-WR-CALDESC:Évènements pour Les ateliers Mus&#039;Art
REFRESH-INTERVAL;VALUE=DURATION:PT1H
X-Robots-Tag:noindex
X-PUBLISHED-TTL:PT1H
BEGIN:VTIMEZONE
TZID:Europe/Paris
BEGIN:DAYLIGHT
TZOFFSETFROM:+0100
TZOFFSETTO:+0200
TZNAME:CEST
DTSTART:20230326T010000
END:DAYLIGHT
BEGIN:STANDARD
TZOFFSETFROM:+0200
TZOFFSETTO:+0100
TZNAME:CET
DTSTART:20231029T010000
END:STANDARD
BEGIN:DAYLIGHT
TZOFFSETFROM:+0100
TZOFFSETTO:+0200
TZNAME:CEST
DTSTART:20240331T010000
END:DAYLIGHT
BEGIN:STANDARD
TZOFFSETFROM:+0200
TZOFFSETTO:+0100
TZNAME:CET
DTSTART:20241027T010000
END:STANDARD
BEGIN:DAYLIGHT
TZOFFSETFROM:+0100
TZOFFSETTO:+0200
TZNAME:CEST
DTSTART:20250330T010000
END:DAYLIGHT
BEGIN:STANDARD
TZOFFSETFROM:+0200
TZOFFSETTO:+0100
TZNAME:CET
DTSTART:20251026T010000
END:STANDARD
END:VTIMEZONE
BEGIN:VEVENT
DTSTART;TZID=Europe/Paris:20240923T183000
DTEND;TZID=Europe/Paris:20240923T193000
DTSTAMP:20260421T144608
CREATED:20240722T142712Z
LAST-MODIFIED:20240807T120610Z
UID:3544-1727116200-1727119800@lesateliersmusart.fr
SUMMARY:Chant en groupe
DESCRIPTION:45 min de 10 à 16 ans
URL:https://lesateliersmusart.fr/atelier/chant-en-groupe/
LOCATION:Le bourg\, 81630 Tauriac\, Le Bourg\, Tauriac\, 81630
CATEGORIES:chant,Musique
END:VEVENT
END:VCALENDAR